Workbook

Sheet 証券分譲共同申請
K1: 《 保険証券･保険付保証明書発行申請書 》
C6: 引渡日が決定しだい、ネットまたは本帳票のFAXによる申請が可能です。必要書類と共にご提出ください。
C10: ●証券発行方法を『Web証券（PDF）』に設定している場合、紙では発行されません。
C13: 保険付保証明書をダウンロードして住宅取得者様へお渡しください。
B17: JIOわが家の保険 | M17: 分譲共同住宅用 | AC17: 分譲共同住宅（住戸単位で引き渡される住宅）用
C21: 下記に記入した内容にて、保険証券・保険付保証明書発行申請を行います。
B24: 1 | D24: 届出事業者番号 | AC24: 2 | AE24: 届出事業者名
B28: 3 | D28: 登録物件番号 | M28: Y | AC28: 4 | AE28: 物件名
B33: 5 | D33: 保険証券発行 申請日(本書記入日) | M33: 西暦 20 | S33: 年 | W33: 月 | AA33: 日 | AC33: 6 | AE33: 担当者氏名
B37: 7 | D37: 工事完了日 | M37: 西暦 20 | S37: 年 | W37: 月 | AA37: 日 | AC37: 8 | AE37: 共同住宅名
B41: 9 | M41: □ | P41: 宅建業者以外 | X41: □ | Z41: 宅建業者 | AF41: ●ここでの宅建業者とは取得者が宅建業免許を保有している場合を指します。 事業者様ご自身の状況の確認ではありません。 住宅取得者の該当する区分にチェックをご記入ください。 ●保有区分が相違する取得者が含まれる場合は申請を分けて頂く必要が あります。
B42: 次項①～③の 住宅取得者 （発注者・買主）
B48: 10 | M48: 取得者が法人の場合は、法人名のみをご記入ください。
M51: ① | O51: 部屋番号 | Z51: 号室 | AC51: 引渡日 （保険開始日） | AL51: 西暦 20 | AT51: 年 | AX51: 月 | BB51: 日
O55: 住宅取得者名 | V55: フリガナ
D56: 住宅の取得者名
O58: 住宅取得者の住所 （本住宅に居住されない場合のみ）
M62: ② | O62: 部屋番号 | Z62: 号室 | AC62: 引渡日 （保険開始日） | AL62: 西暦 20 | AT62: 年 | AX62: 月 | BB62: 日
B63: 保険証券と同時に申請される住戸数が3戸を超える場合は、住宅取得者一覧表を添付してください。
O66: 住宅取得者名 | V66: フリガナ
O69: 住宅取得者の住所 （本住宅に居住されない場合のみ）
M73: ③ | O73: 部屋番号 | Z73: 号室 | AC73: 引渡日 （保険開始日） | AL73: 西暦 20 | AT73: 年 | AX73: 月 | BB73: 日
O77: 住宅取得者名 | W77: フリガナ
O80: 住宅取得者の住所 （本住宅に居住されない場合のみ）
M84: (注) 住宅の取得者名は『請負契約書』または『住宅を含む売買契約書』に記載の発注者名または買主名をご記入ください。
M85: JIOのシステム上印字できない漢字については表示可能な漢字またはカタカナでの表示へ書き換えさせていただきます。
B86: 11 | D86: 保険対象住宅の 所在地 （住居表示） | M86: 《 申込時から変更がある、または地番から住居表示へ変更がある場合はご記入ください。》
U88: フリガナ
U90: 都 道 府 県
B92: 12 | D92: 転売特約 | M92: □ | P92: 付帯する | W92: □ | Z92: 付帯しない | AG92: 保険契約申込書にご記入いただいた場合は記入不要です。 また、当項目にて保険契約申込時の内容から変更が可能です。
B97: 【 留意事項 】 | I97: ● | K97: 保険証券・保険付保証明書の発行は保険料・検査料の入金確認後となりますので、あらかじめご了承下さい。
I98: ● | K98: 住宅取得者（発注者または買主）が宅建業免許保有者の場合、住宅瑕疵担保責任保険（１号）の保険契約は締結できません。該当する住戸は一般瑕疵担保責任保険（２号）の申込が必要となります。
B102: 必要添付書類 | H102: 住宅取得者一覧表 （申請住戸数が3戸を超える場合のみ） | AK102: 【 | AO102: 枚】 | AS102: 【申請書類送付先】
H104: 瑕疵担保責任保険契約申込書の写し（WEBシステム申込で未提出の場合）
H105: ※保険契約申込の原本不要サービスご利用の物件は送付不要です
H106: 保険契約変更届の写し（保険申込内容に変更がある場合のみ） | AS106: 株式会社日本住宅保証検査機構 証券発行グループ TEL 03-6861-9218 FAX 03-6861-9233 e-mail：jiosyoken@jio-kensa.com
H109: 契約内容確認シートの写し （未提出の場合）
H110: 売買契約書または請負契約書の写し（未提出の場合）
E111: ※下記『性能評価関連』の書類は、性能評価申込物件のみに必要な書類となります。
H112: 建設住宅性能評価書の写し（各住戸）
...

Sheet 取得者入力表
A1: 住宅取得者一覧表 入力シート | G1: ※この入力シートは住宅取得者一覧表作成用なので提出は不要です。 各項目へ入力いただいた内容が提出用の住宅取得者一覧表へ転記されます。
C2: 部屋番号 （号室） | D2: 住宅取得者名 | G2: フリガナ | H2: 引渡日 （保険開始日） | I2: 住宅取得者の宅建業保有について | P2: 住所 （本保険対象住宅に居住 されない場合に記入）
E3: 取得者が法人の場合、法人名のみ をご記入ください。
A5: 住宅取得者一覧表① | B5: ① | I5: 本一覧表の住宅取得者は
B6: ②
B7: ③ | I7: 宅建業者である
B8: ④ | J8: 選択： | L8: □
B9: ⑤ | I9: （宅建業者である場合には「■」を選択）
B10: ⑥ | I10: ●ここでの宅建業者とは取得者が宅建業免許を 保有している場合を指します。 事業者様ご自身の状況の確認ではありません。 ●保有区分が相違する取得者が含まれる場合は 申請を分けて頂く必要があります。
B11: ⑦
B12: ⑧
A13: 住宅取得者一覧表② | B13: ①
B14: ②
B15: ③ | I15: 本一覧表の住宅取得者は
B16: ④ | I16: 宅建業者である
B17: ⑤ | L17: =取得者入力表!L8 -> □
B18: ⑥ | I18: 住宅取得者一覧表①の選択内容が反映されます。
B19: ⑦
B20: ⑧
A21: 住宅取得者一覧表③ | B21: ①
B22: ②
B23: ③ | I23: 本一覧表の住宅取得者は
B24: ④ | I24: 宅建業者である
B25: ⑤ | L25: =取得者入力表!L8 -> □
B26: ⑥ | I26: 住宅取得者一覧表①の選択内容が反映されます。
B27: ⑦
B28: ⑧
A29: 住宅取得者一覧表④ | B29: ①
B30: ②
B31: ③ | I31: 本一覧表の住宅取得者は
B32: ④ | I32: 宅建業者である
B33: ⑤ | L33: =取得者入力表!L8 -> □
B34: ⑥ | I34: 住宅取得者一覧表①の選択内容が反映されます。
B35: ⑦
B36: ⑧
A37: 住宅取得者一覧表⑤ | B37: ①
B38: ②
B39: ③ | I39: 本一覧表の住宅取得者は
B40: ④ | I40: 宅建業者である
B41: ⑤ | L41: =取得者入力表!L8 -> □
...

Sheet 住宅取得者一覧表① 
J1: 《 住宅取得者一覧表 》
A6: JIOわが家の保険 | J6: 分譲共同住宅用 | V6: 本書は「保険証券･保険付保証明書発行申請書（分譲共同住宅用）」と併せて送付ください
A10: 1 | C10: 登録物件番号 | J10: Y | L10: =IF(証券分譲共同申請!$O$28="","",証券分譲共同申請!$O$28) | N10: =IF(証券分譲共同申請!$Q$28="","",証券分譲共同申請!$Q$28) | P10: =IF(証券分譲共同申請!$S$28="","",証券分譲共同申請!$S$28) | R10: =IF(証券分譲共同申請!$U$28="","",証券分譲共同申請!$U$28) | T10: =IF(証券分譲共同申請!$W$28="","",証券分譲共同申請!$W$28) | V10: =IF(証券分譲共同申請!$Y$28="","",証券分譲共同申請!$Y$28) | X10: =IF(証券分譲共同申請!$AA$28="","",証券分譲共同申請!$AA$28) | Z10: 2 | AB10: 物件名 | AI10: =IF(証券分譲共同申請!$AL$28="","",証券分譲共同申請!$AL$28)
A14: 3 | C14: 住宅の取得者 | J14: =IF($S$14="■","□","■") -> ■ | L14: 宅建業者以外 | S14: =IF(取得者入力表!$L$8="","□",取得者入力表!$L$8) -> □ | U14: 宅建業者 | Z14: ●ここでの宅建業者とは取得者が宅建業免許を保有している場合を指します。 事業者様ご自身の状況の確認ではありません。 住宅取得者の該当する区分にチェックをご記入ください。 ●保有区分が相違する取得者が含まれる場合は申請を分けて頂く必要があります。
C20: 取得者が法人の場合、『 住宅取得者名 』は法人名のみをご記入ください。
A21: ① | C21: 部屋番号 | J21: =IF(取得者入力表!$C$5="","",取得者入力表!$C$5) | T21: 号室 | Z21: 住宅取得者名 | AI21: フリガナ | AM21: =IF(取得者入力表!$G$5="","",取得者入力表!$G$5)
AI23: =IF(取得者入力表!$D$5="","",取得者入力表!$D$5)
C27: 引渡日 （保険開始日） | J27: 西暦 | N27: =IF(取得者入力表!$H$5="","",取得者入力表!$H$5) | Z27: 住宅取得者の住所 （本保険対象住宅に 居住されない場合のみ） | AI27: =IF(取得者入力表!$P$5="","",取得者入力表!$P$5)
A33: ② | C33: 部屋番号 | J33: =IF(取得者入力表!$C$6="","",取得者入力表!$C$6) | T33: 号室 | Z33: 住宅取得者名 | AI33: フリガナ | AM33: =IF(取得者入力表!$G$6="","",取得者入力表!$G$6)
AI35: =IF(取得者入力表!$D$6="","",取得者入力表!$D$6)
C39: 引渡日 （保険開始日） | J39: 西暦 | N39: =IF(取得者入力表!$H$6="","",取得者入力表!$H$6) | Z39: 住宅取得者の住所 （本保険対象住宅に 居住されない場合のみ） | AI39: =IF(取得者入力表!$P$6="","",取得者入力表!$P$6)
A45: ③ | C45: 部屋番号 | J45: =IF(取得者入力表!$C$7="","",取得者入力表!$C$7) | T45: 号室 | Z45: 住宅取得者名 | AI45: フリガナ | AM45: =IF(取得者入力表!$G$7="","",取得者入力表!$G$7)
AI47: =IF(取得者入力表!$D$7="","",取得者入力表!$D$7)
C51: 引渡日 （保険開始日） | J51: 西暦 | N51: =IF(取得者入力表!$H$7="","",取得者入力表!$H$7) | Z51: 住宅取得者の住所 （本保険対象住宅に 居住されない場合のみ） | AI51: =IF(取得者入力表!$P$7="","",取得者入力表!$P$7)
A57: ④ | C57: 部屋番号 | J57: =IF(取得者入力表!$C$8="","",取得者入力表!$C$8) | T57: 号室 | Z57: 住宅取得者名 | AI57: フリガナ | AM57: =IF(取得者入力表!$G$8="","",取得者入力表!$G$8)
AI59: =IF(取得者入力表!$D$8="","",取得者入力表!$D$8)
C63: 引渡日 （保険開始日） | J63: 西暦 | N63: =IF(取得者入力表!$H$8="","",取得者入力表!$H$8) | Z63: 住宅取得者の住所 （本保険対象住宅に 居住されない場合のみ） | AI63: =IF(取得者入力表!$P$8="","",取得者入力表!$P$8)
A69: ⑤ | C69: 部屋番号 | J69: =IF(取得者入力表!$C$9="","",取得者入力表!$C$9) | T69: 号室 | Z69: 住宅取得者名 | AI69: フリガナ | AM69: =IF(取得者入力表!$G$9="","",取得者入力表!$G$9)
AI71: =IF(取得者入力表!$D$9="","",取得者入力表!$D$9)
C75: 引渡日 （保険開始日） | J75: 西暦 | N75: =IF(取得者入力表!$H$9="","",取得者入力表!$H$9) | Z75: 住宅取得者の住所 （本保険対象住宅に 居住されない場合のみ） | AI75: =IF(取得者入力表!$P$9="","",取得者入力表!$P$9)
A81: ⑥ | C81: 部屋番号 | J81: =IF(取得者入力表!$C$10="","",取得者入力表!$C$10) | T81: 号室 | Z81: 住宅取得者名 | AI81: フリガナ | AM81: =IF(取得者入力表!$G$10="","",取得者入力表!$G$10)
AI83: =IF(取得者入力表!$D$10="","",取得者入力表!$D$10)
C87: 引渡日 （保険開始日） | J87: 西暦 | N87: =IF(取得者入力表!$H$10="","",取得者入力表!$H$10) | Z87: 住宅取得者の住所 （本保険対象住宅に 居住されない場合のみ） | AI87: =IF(取得者入力表!$P$10="","",取得者入力表!$P$10)
A93: ⑦ | C93: 部屋番号 | J93: =IF(取得者入力表!$C$11="","",取得者入力表!$C$11) | T93: 号室 | Z93: 住宅取得者名 | AI93: フリガナ | AM93: =IF(取得者入力表!$G$11="","",取得者入力表!$G$11)
AI95: =IF(取得者入力表!$D$11="","",取得者入力表!$D$11)
C99: 引渡日 （保険開始日） | J99: 西暦 | N99: =IF(取得者入力表!$H$11="","",取得者入力表!$H$11) | Z99: 住宅取得者の住所 （本保険対象住宅に 居住されない場合のみ） | AI99: =IF(取得者入力表!$P$11="","",取得者入力表!$P$11)
A105: ⑧ | C105: 部屋番号 | J105: =IF(取得者入力表!$C$12="","",取得者入力表!$C$12) | T105: 号室 | Z105: 住宅取得者名 | AI105: フリガナ | AM105: =IF(取得者入力表!$G$12="","",取得者入力表!$G$12)
AI107: =IF(取得者入力表!$D$12="","",取得者入力表!$D$12)
C111: 引渡日 （保険開始日） | J111: 西暦 | N111: =IF(取得者入力表!$H$12="","",取得者入力表!$H$12) | Z111: 住宅取得者の住所 （本保険対象住宅に 居住されない場合のみ） | AI111: =IF(取得者入力表!$P$12="","",取得者入力表!$P$12)
A117: 4 | C117: 住宅取得者一覧表の続きあり | P117: =IF(取得者入力表!$C$13="","□","■") -> □ | R117: 住宅取得者一覧表の続きがある場合はチェックをご記入ください。 | AI117: 株式会社日本住宅保証検査機構 証券発行グループ 〒136-0071 東京都江東区亀戸1-14-4 TEL 03-6861-9218 FAX 03-6861-9233
A124: (注) | C124: 住宅の取得者名は『請負契約書』または『住宅を含む売買契約書』に記載の発注者名または買主名をご記入ください。
AL129: SN2049-09（2023.08）

Sheet 住宅取得者一覧表②
J1: 《 住宅取得者一覧表 》
A6: JIOわが家の保険 | J6: 分譲共同住宅用 | V6: 本書は「保険証券･保険付保証明書発行申請書（分譲共同住宅用）」と併せて送付ください
A10: 1 | C10: 登録物件番号 | J10: Y | L10: =IF(証券分譲共同申請!$O$28="","",証券分譲共同申請!$O$28) | N10: =IF(証券分譲共同申請!$Q$28="","",証券分譲共同申請!$Q$28) | P10: =IF(証券分譲共同申請!$S$28="","",証券分譲共同申請!$S$28) | R10: =IF(証券分譲共同申請!$U$28="","",証券分譲共同申請!$U$28) | T10: =IF(証券分譲共同申請!$W$28="","",証券分譲共同申請!$W$28) | V10: =IF(証券分譲共同申請!$Y$28="","",証券分譲共同申請!$Y$28) | X10: =IF(証券分譲共同申請!$AA$28="","",証券分譲共同申請!$AA$28) | Z10: 2 | AB10: 物件名 | AI10: =IF(証券分譲共同申請!$AL$28="","",証券分譲共同申請!$AL$28)
A14: 3 | C14: 住宅の取得者 | J14: =IF($S$14="■","□","■") -> ■ | L14: 宅建業者以外 | S14: =IF(取得者入力表!$L$8="","□",取得者入力表!$L$8) -> □ | U14: 宅建業者 | Z14: ●ここでの宅建業者とは取得者が宅建業免許を保有している場合を指します。 事業者様ご自身の状況の確認ではありません。 住宅取得者の該当する区分にチェックをご記入ください。 ●保有区分が相違する取得者が含まれる場合は申請を分けて頂く必要があります。
C20: 取得者が法人の場合、『 住宅取得者名 』は法人名のみをご記入ください。
A21: ① | C21: 部屋番号 | J21: =IF(取得者入力表!$C$13="","",取得者入力表!$C$13) | T21: 号室 | Z21: 住宅取得者名 | AI21: フリガナ | AM21: =IF(取得者入力表!$G$13="","",取得者入力表!$G$13)
AI23: =IF(取得者入力表!$D$13="","",取得者入力表!$D$13)
C27: 引渡日 （保険開始日） | J27: 西暦 | N27: =IF(取得者入力表!$H$13="","",取得者入力表!$H$13) | Z27: 住宅取得者の住所 （本保険対象住宅に 居住されない場合のみ） | AI27: =IF(取得者入力表!$P$13="","",取得者入力表!$P$13)
A33: ② | C33: 部屋番号 | J33: =IF(取得者入力表!$C$14="","",取得者入力表!$C$14) | T33: 号室 | Z33: 住宅取得者名 | AI33: フリガナ | AM33: =IF(取得者入力表!$G$14="","",取得者入力表!$G$14)
AI35: =IF(取得者入力表!$D$14="","",取得者入力表!$D$14)
C39: 引渡日 （保険開始日） | J39: 西暦 | N39: =IF(取得者入力表!$H$14="","",取得者入力表!$H$14) | Z39: 住宅取得者の住所 （本保険対象住宅に 居住されない場合のみ） | AI39: =IF(取得者入力表!$P$14="","",取得者入力表!$P$14)
A45: ③ | C45: 部屋番号 | J45: =IF(取得者入力表!$C$15="","",取得者入力表!$C$15) | T45: 号室 | Z45: 住宅取得者名 | AI45: フリガナ | AM45: =IF(取得者入力表!$G$15="","",取得者入力表!$G$15)
AI47: =IF(取得者入力表!$D$15="","",取得者入力表!$D$15)
C51: 引渡日 （保険開始日） | J51: 西暦 | N51: =IF(取得者入力表!$H$15="","",取得者入力表!$H$15) | Z51: 住宅取得者の住所 （本保険対象住宅に 居住されない場合のみ） | AI51: =IF(取得者入力表!$P$15="","",取得者入力表!$P$15)
A57: ④ | C57: 部屋番号 | J57: =IF(取得者入力表!$C$16="","",取得者入力表!$C$16) | T57: 号室 | Z57: 住宅取得者名 | AI57: フリガナ | AM57: =IF(取得者入力表!$G$16="","",取得者入力表!$G$16)
AI59: =IF(取得者入力表!$D$16="","",取得者入力表!$D$16)
C63: 引渡日 （保険開始日） | J63: 西暦 | N63: =IF(取得者入力表!$H$16="","",取得者入力表!$H$16) | Z63: 住宅取得者の住所 （本保険対象住宅に 居住されない場合のみ） | AI63: =IF(取得者入力表!$P$16="","",取得者入力表!$P$16)
A69: ⑤ | C69: 部屋番号 | J69: =IF(取得者入力表!$C$17="","",取得者入力表!$C$17) | T69: 号室 | Z69: 住宅取得者名 | AI69: フリガナ | AM69: =IF(取得者入力表!$G$17="","",取得者入力表!$G$17)
AI71: =IF(取得者入力表!$D$17="","",取得者入力表!$D$17)
C75: 引渡日 （保険開始日） | J75: 西暦 | N75: =IF(取得者入力表!$H$17="","",取得者入力表!$H$17) | Z75: 住宅取得者の住所 （本保険対象住宅に 居住されない場合のみ） | AI75: =IF(取得者入力表!$P$17="","",取得者入力表!$P$17)
A81: ⑥ | C81: 部屋番号 | J81: =IF(取得者入力表!$C$18="","",取得者入力表!$C$18) | T81: 号室 | Z81: 住宅取得者名 | AI81: フリガナ | AM81: =IF(取得者入力表!$G$18="","",取得者入力表!$G$18)
AI83: =IF(取得者入力表!$D$18="","",取得者入力表!$D$18)
C87: 引渡日 （保険開始日） | J87: 西暦 | N87: =IF(取得者入力表!$H$18="","",取得者入力表!$H$18) | Z87: 住宅取得者の住所 （本保険対象住宅に 居住されない場合のみ） | AI87: =IF(取得者入力表!$P$18="","",取得者入力表!$P$18)
A93: ⑦ | C93: 部屋番号 | J93: =IF(取得者入力表!$C$19="","",取得者入力表!$C$19) | T93: 号室 | Z93: 住宅取得者名 | AI93: フリガナ | AM93: =IF(取得者入力表!$G$19="","",取得者入力表!$G$19)
AI95: =IF(取得者入力表!$D$19="","",取得者入力表!$D$19)
C99: 引渡日 （保険開始日） | J99: 西暦 | N99: =IF(取得者入力表!$H$19="","",取得者入力表!$H$19) | Z99: 住宅取得者の住所 （本保険対象住宅に 居住されない場合のみ） | AI99: =IF(取得者入力表!$P$19="","",取得者入力表!$P$19)
A105: ⑧ | C105: 部屋番号 | J105: =IF(取得者入力表!$C$20="","",取得者入力表!$C$20) | T105: 号室 | Z105: 住宅取得者名 | AI105: フリガナ | AM105: =IF(取得者入力表!$G$20="","",取得者入力表!$G$20)
AI107: =IF(取得者入力表!$D$20="","",取得者入力表!$D$20)
C111: 引渡日 （保険開始日） | J111: 西暦 | N111: =IF(取得者入力表!$H$20="","",取得者入力表!$H$20) | Z111: 住宅取得者の住所 （本保険対象住宅に 居住されない場合のみ） | AI111: =IF(取得者入力表!$P$20="","",取得者入力表!$P$20)
A117: 4 | C117: 住宅取得者一覧表の続きあり | P117: =IF(取得者入力表!$C$21="","□","■") -> □ | R117: 住宅取得者一覧表の続きがある場合はチェックをご記入ください。 | AI117: 株式会社日本住宅保証検査機構 証券発行グループ 〒136-0071 東京都江東区亀戸1-14-4 TEL 03-6861-9218 FAX 03-6861-9233
A124: (注) | C124: 住宅の取得者名は『請負契約書』または『住宅を含む売買契約書』に記載の発注者名または買主名をご記入ください。
AL129: SN2049-09（2023.08）

Sheet 住宅取得者一覧表③
J1: 《 住宅取得者一覧表 》
A6: JIOわが家の保険 | J6: 分譲共同住宅用 | V6: 本書は「保険証券･保険付保証明書発行申請書（分譲共同住宅用）」と併せて送付ください
A10: 1 | C10: 登録物件番号 | J10: Y | L10: =IF(証券分譲共同申請!$O$28="","",証券分譲共同申請!$O$28) | N10: =IF(証券分譲共同申請!$Q$28="","",証券分譲共同申請!$Q$28) | P10: =IF(証券分譲共同申請!$S$28="","",証券分譲共同申請!$S$28) | R10: =IF(証券分譲共同申請!$U$28="","",証券分譲共同申請!$U$28) | T10: =IF(証券分譲共同申請!$W$28="","",証券分譲共同申請!$W$28) | V10: =IF(証券分譲共同申請!$Y$28="","",証券分譲共同申請!$Y$28) | X10: =IF(証券分譲共同申請!$AA$28="","",証券分譲共同申請!$AA$28) | Z10: 2 | AB10: 物件名 | AI10: =IF(証券分譲共同申請!$AL$28="","",証券分譲共同申請!$AL$28)
A14: 3 | C14: 住宅の取得者 | J14: =IF($S$14="■","□","■") -> ■ | L14: 宅建業者以外 | S14: =IF(取得者入力表!$L$8="","□",取得者入力表!$L$8) -> □ | U14: 宅建業者 | Z14: ●ここでの宅建業者とは取得者が宅建業免許を保有している場合を指します。 事業者様ご自身の状況の確認ではありません。 住宅取得者の該当する区分にチェックをご記入ください。 ●保有区分が相違する取得者が含まれる場合は申請を分けて頂く必要があります。
C20: 取得者が法人の場合、『 住宅取得者名 』は法人名のみをご記入ください。
A21: ① | C21: 部屋番号 | J21: =IF(取得者入力表!$C$21="","",取得者入力表!$C$21) | T21: 号室 | Z21: 住宅取得者名 | AI21: フリガナ | AM21: =IF(取得者入力表!$G$21="","",取得者入力表!$G$21)
AI23: =IF(取得者入力表!$D$21="","",取得者入力表!$D$21)
C27: 引渡日 （保険開始日） | J27: 西暦 | N27: =IF(取得者入力表!$H$21="","",取得者入力表!$H$21) | Z27: 住宅取得者の住所 （本保険対象住宅に 居住されない場合のみ） | AI27: =IF(取得者入力表!$P$21="","",取得者入力表!$P$21)
A33: ② | C33: 部屋番号 | J33: =IF(取得者入力表!$C$22="","",取得者入力表!$C$22) | T33: 号室 | Z33: 住宅取得者名 | AI33: フリガナ | AM33: =IF(取得者入力表!$G$22="","",取得者入力表!$G$22)
AI35: =IF(取得者入力表!$D$22="","",取得者入力表!$D$22)
C39: 引渡日 （保険開始日） | J39: 西暦 | N39: =IF(取得者入力表!$H$22="","",取得者入力表!$H$22) | Z39: 住宅取得者の住所 （本保険対象住宅に 居住されない場合のみ） | AI39: =IF(取得者入力表!$P$22="","",取得者入力表!$P$22)
A45: ③ | C45: 部屋番号 | J45: =IF(取得者入力表!$C$23="","",取得者入力表!$C$23) | T45: 号室 | Z45: 住宅取得者名 | AI45: フリガナ | AM45: =IF(取得者入力表!$G$23="","",取得者入力表!$G$23)
AI47: =IF(取得者入力表!$D$23="","",取得者入力表!$D$23)
C51: 引渡日 （保険開始日） | J51: 西暦 | N51: =IF(取得者入力表!$H$23="","",取得者入力表!$H$23) | Z51: 住宅取得者の住所 （本保険対象住宅に 居住されない場合のみ） | AI51: =IF(取得者入力表!$P$23="","",取得者入力表!$P$23)
A57: ④ | C57: 部屋番号 | J57: =IF(取得者入力表!$C$24="","",取得者入力表!$C$24) | T57: 号室 | Z57: 住宅取得者名 | AI57: フリガナ | AM57: =IF(取得者入力表!$G$24="","",取得者入力表!$G$24)
AI59: =IF(取得者入力表!$D$24="","",取得者入力表!$D$24)
C63: 引渡日 （保険開始日） | J63: 西暦 | N63: =IF(取得者入力表!$H$24="","",取得者入力表!$H$24) | Z63: 住宅取得者の住所 （本保険対象住宅に 居住されない場合のみ） | AI63: =IF(取得者入力表!$P$24="","",取得者入力表!$P$24)
A69: ⑤ | C69: 部屋番号 | J69: =IF(取得者入力表!$C$25="","",取得者入力表!$C$25) | T69: 号室 | Z69: 住宅取得者名 | AI69: フリガナ | AM69: =IF(取得者入力表!$G$25="","",取得者入力表!$G$25)
AI71: =IF(取得者入力表!$D$25="","",取得者入力表!$D$25)
C75: 引渡日 （保険開始日） | J75: 西暦 | N75: =IF(取得者入力表!$H$25="","",取得者入力表!$H$25) | Z75: 住宅取得者の住所 （本保険対象住宅に 居住されない場合のみ） | AI75: =IF(取得者入力表!$P$25="","",取得者入力表!$P$25)
A81: ⑥ | C81: 部屋番号 | J81: =IF(取得者入力表!$C$26="","",取得者入力表!$C$26) | T81: 号室 | Z81: 住宅取得者名 | AI81: フリガナ | AM81: =IF(取得者入力表!$G$26="","",取得者入力表!$G$26)
AI83: =IF(取得者入力表!$D$26="","",取得者入力表!$D$26)
C87: 引渡日 （保険開始日） | J87: 西暦 | N87: =IF(取得者入力表!$H$26="","",取得者入力表!$H$26) | Z87: 住宅取得者の住所 （本保険対象住宅に 居住されない場合のみ） | AI87: =IF(取得者入力表!$P$26="","",取得者入力表!$P$26)
A93: ⑦ | C93: 部屋番号 | J93: =IF(取得者入力表!$C$27="","",取得者入力表!$C$27) | T93: 号室 | Z93: 住宅取得者名 | AI93: フリガナ | AM93: =IF(取得者入力表!$G$27="","",取得者入力表!$G$27)
AI95: =IF(取得者入力表!$D$27="","",取得者入力表!$D$27)
C99: 引渡日 （保険開始日） | J99: 西暦 | N99: =IF(取得者入力表!$H$27="","",取得者入力表!$H$27) | Z99: 住宅取得者の住所 （本保険対象住宅に 居住されない場合のみ） | AI99: =IF(取得者入力表!$P$27="","",取得者入力表!$P$27)
A105: ⑧ | C105: 部屋番号 | J105: =IF(取得者入力表!$C$28="","",取得者入力表!$C$28) | T105: 号室 | Z105: 住宅取得者名 | AI105: フリガナ | AM105: =IF(取得者入力表!$G$28="","",取得者入力表!$G$28)
AI107: =IF(取得者入力表!$D$28="","",取得者入力表!$D$28)
C111: 引渡日 （保険開始日） | J111: 西暦 | N111: =IF(取得者入力表!$H$28="","",取得者入力表!$H$28) | Z111: 住宅取得者の住所 （本保険対象住宅に 居住されない場合のみ） | AI111: =IF(取得者入力表!$P$28="","",取得者入力表!$P$28)
A117: 4 | C117: 住宅取得者一覧表の続きあり | P117: =IF(取得者入力表!$C$29="","□","■") -> □ | R117: 住宅取得者一覧表の続きがある場合はチェックをご記入ください。 | AI117: 株式会社日本住宅保証検査機構 証券発行グループ 〒136-0071 東京都江東区亀戸1-14-4 TEL 03-6861-9218 FAX 03-6861-9233
A124: (注) | C124: 住宅の取得者名は『請負契約書』または『住宅を含む売買契約書』に記載の発注者名または買主名をご記入ください。
AL129: SN2049-09（2023.08）

Sheet 住宅取得者一覧表④
J1: 《 住宅取得者一覧表 》
A6: JIOわが家の保険 | J6: 分譲共同住宅用 | V6: 本書は「保険証券･保険付保証明書発行申請書（分譲共同住宅用）」と併せて送付ください
A10: 1 | C10: 登録物件番号 | J10: Y | L10: =IF(証券分譲共同申請!$O$28="","",証券分譲共同申請!$O$28) | N10: =IF(証券分譲共同申請!$Q$28="","",証券分譲共同申請!$Q$28) | P10: =IF(証券分譲共同申請!$S$28="","",証券分譲共同申請!$S$28) | R10: =IF(証券分譲共同申請!$U$28="","",証券分譲共同申請!$U$28) | T10: =IF(証券分譲共同申請!$W$28="","",証券分譲共同申請!$W$28) | V10: =IF(証券分譲共同申請!$Y$28="","",証券分譲共同申請!$Y$28) | X10: =IF(証券分譲共同申請!$AA$28="","",証券分譲共同申請!$AA$28) | Z10: 2 | AB10: 物件名 | AI10: =IF(証券分譲共同申請!$AL$28="","",証券分譲共同申請!$AL$28)
A14: 3 | C14: 住宅の取得者 | J14: =IF($S$14="■","□","■") -> ■ | L14: 宅建業者以外 | S14: =IF(取得者入力表!$L$8="","□",取得者入力表!$L$8) -> □ | U14: 宅建業者 | Z14: ●ここでの宅建業者とは取得者が宅建業免許を保有している場合を指します。 事業者様ご自身の状況の確認ではありません。 住宅取得者の該当する区分にチェックをご記入ください。 ●保有区分が相違する取得者が含まれる場合は申請を分けて頂く必要があります。
C20: 取得者が法人の場合、『 住宅取得者名 』は法人名のみをご記入ください。
A21: ① | C21: 部屋番号 | J21: =IF(取得者入力表!$C$29="","",取得者入力表!$C$29) | T21: 号室 | Z21: 住宅取得者名 | AI21: フリガナ | AM21: =IF(取得者入力表!$G$29="","",取得者入力表!$G$29)
AI23: =IF(取得者入力表!$D$29="","",取得者入力表!$D$29)
C27: 引渡日 （保険開始日） | J27: 西暦 | N27: =IF(取得者入力表!$H$29="","",取得者入力表!$H$29) | Z27: 住宅取得者の住所 （本保険対象住宅に 居住されない場合のみ） | AI27: =IF(取得者入力表!$P$29="","",取得者入力表!$P$29)
A33: ② | C33: 部屋番号 | J33: =IF(取得者入力表!$C$30="","",取得者入力表!$C$30) | T33: 号室 | Z33: 住宅取得者名 | AI33: フリガナ | AM33: =IF(取得者入力表!$G$30="","",取得者入力表!$G$30)
AI35: =IF(取得者入力表!$D$30="","",取得者入力表!$D$30)
C39: 引渡日 （保険開始日） | J39: 西暦 | N39: =IF(取得者入力表!$H$30="","",取得者入力表!$H$30) | Z39: 住宅取得者の住所 （本保険対象住宅に 居住されない場合のみ） | AI39: =IF(取得者入力表!$P$30="","",取得者入力表!$P$30)
A45: ③ | C45: 部屋番号 | J45: =IF(取得者入力表!$C$31="","",取得者入力表!$C$31) | T45: 号室 | Z45: 住宅取得者名 | AI45: フリガナ | AM45: =IF(取得者入力表!$G$31="","",取得者入力表!$G$31)
AI47: =IF(取得者入力表!$D$31="","",取得者入力表!$D$31)
C51: 引渡日 （保険開始日） | J51: 西暦 | N51: =IF(取得者入力表!$H$31="","",取得者入力表!$H$31) | Z51: 住宅取得者の住所 （本保険対象住宅に 居住されない場合のみ） | AI51: =IF(取得者入力表!$P$31="","",取得者入力表!$P$31)
A57: ④ | C57: 部屋番号 | J57: =IF(取得者入力表!$C$32="","",取得者入力表!$C$32) | T57: 号室 | Z57: 住宅取得者名 | AI57: フリガナ | AM57: =IF(取得者入力表!$G$32="","",取得者入力表!$G$32)
AI59: =IF(取得者入力表!$D$32="","",取得者入力表!$D$32)
C63: 引渡日 （保険開始日） | J63: 西暦 | N63: =IF(取得者入力表!$H$32="","",取得者入力表!$H$32) | Z63: 住宅取得者の住所 （本保険対象住宅に 居住されない場合のみ） | AI63: =IF(取得者入力表!$P$32="","",取得者入力表!$P$32)
A69: ⑤ | C69: 部屋番号 | J69: =IF(取得者入力表!$C$33="","",取得者入力表!$C$33) | T69: 号室 | Z69: 住宅取得者名 | AI69: フリガナ | AM69: =IF(取得者入力表!$G$33="","",取得者入力表!$G$33)
AI71: =IF(取得者入力表!$D$33="","",取得者入力表!$D$33)
C75: 引渡日 （保険開始日） | J75: 西暦 | N75: =IF(取得者入力表!$H$33="","",取得者入力表!$H$33) | Z75: 住宅取得者の住所 （本保険対象住宅に 居住されない場合のみ） | AI75: =IF(取得者入力表!$P$33="","",取得者入力表!$P$33)
A81: ⑥ | C81: 部屋番号 | J81: =IF(取得者入力表!$C$34="","",取得者入力表!$C$34) | T81: 号室 | Z81: 住宅取得者名 | AI81: フリガナ | AM81: =IF(取得者入力表!$G$34="","",取得者入力表!$G$34)
AI83: =IF(取得者入力表!$D$34="","",取得者入力表!$D$34)
C87: 引渡日 （保険開始日） | J87: 西暦 | N87: =IF(取得者入力表!$H$34="","",取得者入力表!$H$34) | Z87: 住宅取得者の住所 （本保険対象住宅に 居住されない場合のみ） | AI87: =IF(取得者入力表!$P$34="","",取得者入力表!$P$34)
A93: ⑦ | C93: 部屋番号 | J93: =IF(取得者入力表!$C$35="","",取得者入力表!$C$35) | T93: 号室 | Z93: 住宅取得者名 | AI93: フリガナ | AM93: =IF(取得者入力表!$G$35="","",取得者入力表!$G$35)
AI95: =IF(取得者入力表!$D$35="","",取得者入力表!$D$35)
C99: 引渡日 （保険開始日） | J99: 西暦 | N99: =IF(取得者入力表!$H$35="","",取得者入力表!$H$35) | Z99: 住宅取得者の住所 （本保険対象住宅に 居住されない場合のみ） | AI99: =IF(取得者入力表!$P$35="","",取得者入力表!$P$35)
A105: ⑧ | C105: 部屋番号 | J105: =IF(取得者入力表!$C$36="","",取得者入力表!$C$36) | T105: 号室 | Z105: 住宅取得者名 | AI105: フリガナ | AM105: =IF(取得者入力表!$G$36="","",取得者入力表!$G$36)
AI107: =IF(取得者入力表!$D$36="","",取得者入力表!$D$36)
C111: 引渡日 （保険開始日） | J111: 西暦 | N111: =IF(取得者入力表!$H$36="","",取得者入力表!$H$36) | Z111: 住宅取得者の住所 （本保険対象住宅に 居住されない場合のみ） | AI111: =IF(取得者入力表!$P$36="","",取得者入力表!$P$36)
A117: 4 | C117: 住宅取得者一覧表の続きあり | P117: =IF(取得者入力表!$C$37="","□","■") -> □ | R117: 住宅取得者一覧表の続きがある場合はチェックをご記入ください。 | AI117: 株式会社日本住宅保証検査機構 証券発行グループ 〒136-0071 東京都江東区亀戸1-14-4 TEL 03-6861-9218 FAX 03-6861-9233
A124: (注) | C124: 住宅の取得者名は『請負契約書』または『住宅を含む売買契約書』に記載の発注者名または買主名をご記入ください。
AL129: SN2049-09（2023.08）

Sheet 住宅取得者一覧表⑤
J1: 《 住宅取得者一覧表 》
A6: JIOわが家の保険 | J6: 分譲共同住宅用 | V6: 本書は「保険証券･保険付保証明書発行申請書（分譲共同住宅用）」と併せて送付ください
A10: 1 | C10: 登録物件番号 | J10: Y | L10: =IF(証券分譲共同申請!$O$28="","",証券分譲共同申請!$O$28) | N10: =IF(証券分譲共同申請!$Q$28="","",証券分譲共同申請!$Q$28) | P10: =IF(証券分譲共同申請!$S$28="","",証券分譲共同申請!$S$28) | R10: =IF(証券分譲共同申請!$U$28="","",証券分譲共同申請!$U$28) | T10: =IF(証券分譲共同申請!$W$28="","",証券分譲共同申請!$W$28) | V10: =IF(証券分譲共同申請!$Y$28="","",証券分譲共同申請!$Y$28) | X10: =IF(証券分譲共同申請!$AA$28="","",証券分譲共同申請!$AA$28) | Z10: 2 | AB10: 物件名 | AI10: =IF(証券分譲共同申請!$AL$28="","",証券分譲共同申請!$AL$28)
A14: 3 | C14: 住宅の取得者 | J14: =IF($S$14="■","□","■") -> ■ | L14: 宅建業者以外 | S14: =IF(取得者入力表!$L$8="","□",取得者入力表!$L$8) -> □ | U14: 宅建業者 | Z14: ●ここでの宅建業者とは取得者が宅建業免許を保有している場合を指します。 事業者様ご自身の状況の確認ではありません。 住宅取得者の該当する区分にチェックをご記入ください。 ●保有区分が相違する取得者が含まれる場合は申請を分けて頂く必要があります。
C20: 取得者が法人の場合、『 住宅取得者名 』は法人名のみをご記入ください。
A21: ① | C21: 部屋番号 | J21: =IF(取得者入力表!$C$37="","",取得者入力表!$C$37) | T21: 号室 | Z21: 住宅取得者名 | AI21: フリガナ | AM21: =IF(取得者入力表!$G$37="","",取得者入力表!$G$37)
AI23: =IF(取得者入力表!$D$37="","",取得者入力表!$D$37)
C27: 引渡日 （保険開始日） | J27: 西暦 | N27: =IF(取得者入力表!$H$37="","",取得者入力表!$H$37) | Z27: 住宅取得者の住所 （本保険対象住宅に 居住されない場合のみ） | AI27: =IF(取得者入力表!$P$37="","",取得者入力表!$P$37)
A33: ② | C33: 部屋番号 | J33: =IF(取得者入力表!$C$38="","",取得者入力表!$C$38) | T33: 号室 | Z33: 住宅取得者名 | AI33: フリガナ | AM33: =IF(取得者入力表!$G$38="","",取得者入力表!$G$38)
AI35: =IF(取得者入力表!$D$38="","",取得者入力表!$D$38)
C39: 引渡日 （保険開始日） | J39: 西暦 | N39: =IF(取得者入力表!$H$38="","",取得者入力表!$H$38) | Z39: 住宅取得者の住所 （本保険対象住宅に 居住されない場合のみ） | AI39: =IF(取得者入力表!$P$38="","",取得者入力表!$P$38)
A45: ③ | C45: 部屋番号 | J45: =IF(取得者入力表!$C$39="","",取得者入力表!$C$39) | T45: 号室 | Z45: 住宅取得者名 | AI45: フリガナ | AM45: =IF(取得者入力表!$G$39="","",取得者入力表!$G$39)
AI47: =IF(取得者入力表!$D$39="","",取得者入力表!$D$39)
C51: 引渡日 （保険開始日） | J51: 西暦 | N51: =IF(取得者入力表!$H$39="","",取得者入力表!$H$39) | Z51: 住宅取得者の住所 （本保険対象住宅に 居住されない場合のみ） | AI51: =IF(取得者入力表!$P$39="","",取得者入力表!$P$39)
A57: ④ | C57: 部屋番号 | J57: =IF(取得者入力表!$C$40="","",取得者入力表!$C$40) | T57: 号室 | Z57: 住宅取得者名 | AI57: フリガナ | AM57: =IF(取得者入力表!$G$40="","",取得者入力表!$G$40)
AI59: =IF(取得者入力表!$D$40="","",取得者入力表!$D$40)
C63: 引渡日 （保険開始日） | J63: 西暦 | N63: =IF(取得者入力表!$H$40="","",取得者入力表!$H$40) | Z63: 住宅取得者の住所 （本保険対象住宅に 居住されない場合のみ） | AI63: =IF(取得者入力表!$P$40="","",取得者入力表!$P$40)
A69: ⑤ | C69: 部屋番号 | J69: =IF(取得者入力表!$C$41="","",取得者入力表!$C$41) | T69: 号室 | Z69: 住宅取得者名 | AI69: フリガナ | AM69: =IF(取得者入力表!$G$41="","",取得者入力表!$G$41)
AI71: =IF(取得者入力表!$D$41="","",取得者入力表!$D$41)
C75: 引渡日 （保険開始日） | J75: 西暦 | N75: =IF(取得者入力表!$H$41="","",取得者入力表!$H$41) | Z75: 住宅取得者の住所 （本保険対象住宅に 居住されない場合のみ） | AI75: =IF(取得者入力表!$P$41="","",取得者入力表!$P$41)
A81: ⑥ | C81: 部屋番号 | J81: =IF(取得者入力表!$C$42="","",取得者入力表!$C$42) | T81: 号室 | Z81: 住宅取得者名 | AI81: フリガナ | AM81: =IF(取得者入力表!$G$42="","",取得者入力表!$G$42)
AI83: =IF(取得者入力表!$D$42="","",取得者入力表!$D$42)
C87: 引渡日 （保険開始日） | J87: 西暦 | N87: =IF(取得者入力表!$H$42="","",取得者入力表!$H$42) | Z87: 住宅取得者の住所 （本保険対象住宅に 居住されない場合のみ） | AI87: =IF(取得者入力表!$P$42="","",取得者入力表!$P$42)
A93: ⑦ | C93: 部屋番号 | J93: =IF(取得者入力表!$C$43="","",取得者入力表!$C$43) | T93: 号室 | Z93: 住宅取得者名 | AI93: フリガナ | AM93: =IF(取得者入力表!$G$43="","",取得者入力表!$G$43)
AI95: =IF(取得者入力表!$D$43="","",取得者入力表!$D$43)
C99: 引渡日 （保険開始日） | J99: 西暦 | N99: =IF(取得者入力表!$H$43="","",取得者入力表!$H$43) | Z99: 住宅取得者の住所 （本保険対象住宅に 居住されない場合のみ） | AI99: =IF(取得者入力表!$P$43="","",取得者入力表!$P$43)
A105: ⑧ | C105: 部屋番号 | J105: =IF(取得者入力表!$C$44="","",取得者入力表!$C$44) | T105: 号室 | Z105: 住宅取得者名 | AI105: フリガナ | AM105: =IF(取得者入力表!$G$44="","",取得者入力表!$G$44)
AI107: =IF(取得者入力表!$D$44="","",取得者入力表!$D$44)
C111: 引渡日 （保険開始日） | J111: 西暦 | N111: =IF(取得者入力表!$H$44="","",取得者入力表!$H$44) | Z111: 住宅取得者の住所 （本保険対象住宅に 居住されない場合のみ） | AI111: =IF(取得者入力表!$P$44="","",取得者入力表!$P$44)
A117: 4 | C117: 住宅取得者一覧表の続きあり | P117: □ | R117: 住宅取得者一覧表の続きがある場合はチェックをご記入ください。 | AI117: 株式会社日本住宅保証検査機構 証券発行グループ 〒136-0071 東京都江東区亀戸1-14-4 TEL 03-6861-9218 FAX 03-6861-9233
A124: (注) | C124: 住宅の取得者名は『請負契約書』または『住宅を含む売買契約書』に記載の発注者名または買主名をご記入ください。
AL129: SN2049-09（2023.08）
